Uber Exif Photo
By-line : Dan Moruzan
Object Name : DSCF0188
Keywords : monochrome, street photography, urban, Bucharest, Fuji X100
Copyright Notice : ©2011 Copyright
Originating Program : IDimager V5 - Digital Image Manager
Program Version : 5.1.1.1SL
Copyright Flag : True
Subfile Type : Full-resolution image
Photometric Interpretation : RGB
Document Name : DSCF0188
Make : FUJIFILM
Camera Model Name : FinePix X100
Orientation : Horizontal (normal)
Samples Per Pixel : 3
Rows Per Strip : 21
Planar Configuration : Chunky
Software : Adobe Photoshop CS4 Windows
Modify Date : 2011:07:06 14:05:58
Artist : Dan Moruzan
Predictor : Horizontal differencing
Copyright : ©2011 Copyright
Exposure Time : 1/200
F Number : 5.6
Exposure Program : Aperture-priority AE
ISO : 200
Sensitivity Type : Standard Output Sensitivity
Date/Time Original : 2011:07:06 11:32:19
Create Date : 2011:07:06 11:32:19
Shutter Speed Value : 1/200
Aperture Value : 5.6
Brightness Value : 7.48
Exposure Compensation : 0
Max Aperture Value : 2.0
Metering Mode : Multi-segment
Light Source : Unknown
Focal Length : 23.0 mm
User Comment : Color Space : sRGB
Exif Image Width : 900
Exif Image Height : 594
Sensing Method : One-chip color area
Scene Type : Directly photographed
Custom Rendered : Normal
Exposure Mode : Auto
White Balance : Auto
Scene Capture Type : Standard
Sharpness : Normal
Subject Distance Range : Unknown
Rating : 0
Creator Tool : Adobe Photoshop Lightroom 3.4.1
ICC Profile Name : sRGB IEC61966-2.1
Date Created : 2011:07:06
Color Mode : RGB
Format : image/jpeg
Marked : True
Already Applied : True
Has Crop : True
Crop Unit : pixels
Crop Height : 2673
Crop Width : 4048
Crop Constrain To Warp : 0
Crop Angle : -0.158826
Crop Right : 0.998812
Crop Bottom : 0.93852
Crop Left : 0.053103
Crop Top : 0.00394
Has Settings : True
Lens Profile Setup : LensDefaults
Camera Profile : Adobe Standard
Tone Curve Name : Medium Contrast
Convert To Grayscale : False
Perspective Scale : 100
Perspective Rotate : 0.0
Perspective Horizontal : 0
Perspective Vertical : 0
Lens Manual Distortion Amount : 0
Lens Profile Enable : 0
Color Noise Reduction Detail : 50
Grain Amount : 0
Post Crop Vignette Amount : 0
Sharpen Edge Masking : 0
Sharpen Detail : 25
Sharpen Radius : +1
Parametric Highlight Split : 75
Parametric Midtone Split : 50
Parametric Shadow Split : 25
Parametric Highlights : 0
Parametric Lights : 0
Parametric Darks : 0
Parametric Shadows : 0
Split Toning Balance : 0
Split Toning Highlight Saturation : 0
Split Toning Highlight Hue : 0
Split Toning Shadow Saturation : 0
Split Toning Shadow Hue : 0
Luminance Adjustment Magenta : 0
Luminance Adjustment Purple : 0
Luminance Adjustment Blue : 0
Luminance Adjustment Aqua : 0
Luminance Adjustment Green : 0
Luminance Adjustment Yellow : 0
Luminance Adjustment Orange : 0
Luminance Adjustment Red : 0
Saturation Adjustment Magenta : 0
Saturation Adjustment Purple : 0
Saturation Adjustment Blue : 0
Saturation Adjustment Aqua : 0
Saturation Adjustment Green : 0
Saturation Adjustment Yellow : 0
Saturation Adjustment Orange : 0
Saturation Adjustment Red : 0
Hue Adjustment Magenta : 0
Hue Adjustment Purple : 0
Hue Adjustment Blue : 0
Hue Adjustment Aqua : 0
Hue Adjustment Green : 0
Hue Adjustment Yellow : 0
Hue Adjustment Orange : 0
Hue Adjustment Red : 0
Defringe : 0
Clarity : -9
Highlight Recovery : 20
Vibrance : 0
Fill Light : 10
Blue Saturation : 0
Blue Hue : 0
Green Saturation : 0
Green Hue : 0
Red Saturation : 0
Red Hue : 0
Shadow Tint : 0
Vignette Amount : 0
Chromatic Aberration B : 0
Chromatic Aberration R : 0
Color Noise Reduction : 25
Luminance Smoothing : 0
Saturation : 0
Contrast : +34
Brightness : +50
Shadows : 5
Exposure : +0.5
Tint : +5
Color Temperature : 4950
Process Version : 5.7
Version : 6.4.1
Preserved File Name : DSCF0188.tif
Date/Time Digitized : 2011:07:06 11:32:19+03:00
Image Ref : 21043143A09C46B8ACC06C251C3DB9EA
Rating Percent : 0
Creator : Dan Moruzan
Rights : ©2011 Copyright
Title : DSCF0188
Subject : monochrome, street photography, urban, Bucharest, Fuji X100
Creator Work URL : http://www.danmoruzan.ro
Tone Curve : 0, 0, 32, 22, 64, 56, 128, 128, 192, 196, 255, 255
Flash Fired : False
Flash Return : No return detection
Flash Mode : Off
Flash Function : True
Flash Red Eye Mode : False
Main Version File Main Ref : DE788D794EEA488486C6F5D9C8AE73EC
Main Version File File Name : C:\Users\Dan\Desktop\DSCF0188.tif
Version Place Holders : album display
Reference 1 : {6B36224B-1405-47A0-8430-573229C8CCB9}
Label Name 1 : Keywords
Reference 2 : 0FE32CDE0A7B458C8BB2E1777F0CCF98, 2E274F04108D4ED59E08E8A971109FA1, 667BB1D24EDF494E98F1626C2226E7BD, A425AA6F2D0A4452AA8DD2382065E8C4, FA466FAF8E1B43C5914617DFA87CA1CE
Label Name 2 : monochrome, street photography, urban, Bucharest, Fuji X100
Hierarchical Subject : Keywords|monochrome, Keywords|street photography, Keywords|urban, Keywords|Bucharest, Keywords|Fuji X100
Image Width : 300
Image Height : 198
Bits Per Sample : 8
Color Components : 1
Aperture : 5.6
Image Size : 300x198
Megapixels : 0.059
Scale Factor To 35 mm Equivalent : 3.7
Shutter Speed : 1/200
Flash : Off, No flash function
Circle Of Confusion : 0.008 mm
Field Of View : 23.8 deg
Focal Length : 23.0 mm (35 mm equivalent: 85.3 mm)
Hyperfocal Distance : 11.66 m
Light Value : 11.6