Uber Exif Photo
By-line : Richard Berter
Copyright Notice : © Richard Berter
Copyright Flag : False
URL : � Richard Berter
Make : FUJIFILM
Camera Model Name : X-Pro1
Software : Adobe Photoshop Lightroom Classic 8.0 (Windows)
Modify Date : 2018:11:04 11:25:34
Artist : Richard Berter
Copyright : © Richard Berter
Exposure Time : 1/140
F Number : 8.0
Exposure Program : Aperture-priority AE
ISO : 400
Date/Time Original : 2016:06:04 10:31:50
Create Date : 2016:06:04 10:31:50
Shutter Speed Value : 1/140
Aperture Value : 8.0
Brightness Value : 6.54
Exposure Compensation : 0
Max Aperture Value : 2.0
Metering Mode : Multi-segment
Light Source : Unknown
Flash : Off, Did not fire
Focal Length : 18.0 mm
Color Space : sRGB
Sensing Method : One-chip color area
Scene Type : Directly photographed
Exposure Mode : Auto
White Balance : Auto
Focal Length In 35mm Format : 27 mm
Scene Capture Type : Standard
Sharpness : Normal
Subject Distance Range : Unknown
Lens Info : 18mm f/2
Lens Model : XF18mmF2 R
Lens Serial Number : 57A01628
Profile Description : sRGB IEC61966-2.1
Distortion Correction Already Applied : True
Lateral Chromatic Aberration Correction Already Applied : True
Lens : XF18mmF2 R
Vignette Correction Already Applied : True
Format : image/jpeg
Creator Tool : Adobe Photoshop Lightroom Classic 8.0 (Windows)
Rating : 5
Photographic Sensitivity : 400
Date Created : 2016:06:04 10:31:50
Marked : False
Web Statement : © Richard Berter
Raw File Name : Version : 11.0
Process Version : 10.0
Incremental Temperature : 0
Incremental Tint : 0
Saturation : 0
Luminance Smoothing : 0
Color Noise Reduction : 25
Vignette Amount : 0
Shadow Tint : 0
Red Hue : 0
Red Saturation : 0
Green Hue : 0
Green Saturation : 0
Blue Hue : 0
Blue Saturation : 0
Vibrance : 0
Hue Adjustment Red : 0
Hue Adjustment Orange : 0
Hue Adjustment Yellow : 0
Hue Adjustment Green : 0
Hue Adjustment Aqua : 0
Hue Adjustment Blue : 0
Hue Adjustment Purple : 0
Hue Adjustment Magenta : 0
Saturation Adjustment Red : 0
Saturation Adjustment Orange : 0
Saturation Adjustment Yellow : 0
Saturation Adjustment Green : 0
Saturation Adjustment Aqua : 0
Saturation Adjustment Blue : 0
Saturation Adjustment Purple : 0
Saturation Adjustment Magenta : 0
Luminance Adjustment Red : 0
Luminance Adjustment Orange : 0
Luminance Adjustment Yellow : 0
Luminance Adjustment Green : 0
Luminance Adjustment Aqua : 0
Luminance Adjustment Blue : 0
Luminance Adjustment Purple : 0
Luminance Adjustment Magenta : 0
Split Toning Shadow Hue : 0
Split Toning Shadow Saturation : 0
Split Toning Highlight Hue : 0
Split Toning Highlight Saturation : 0
Split Toning Balance : 0
Parametric Shadows : 0
Parametric Darks : 0
Parametric Lights : 0
Parametric Highlights : 0
Parametric Shadow Split : 25
Parametric Midtone Split : 50
Parametric Highlight Split : 75
Sharpen Radius : +1.0
Sharpen Detail : 25
Sharpen Edge Masking : 0
Post Crop Vignette Amount : 0
Grain Amount : 0
Color Noise Reduction Detail : 50
Color Noise Reduction Smoothness : 50
Lens Profile Enable : 0
Lens Manual Distortion Amount : 0
Perspective Vertical : 0
Perspective Horizontal : 0
Perspective Rotate : 0.0
Perspective Scale : 100
Perspective Aspect : 0
Perspective Upright : Off
Perspective X : 0.00
Perspective Y : 0.00
Auto Lateral CA : 0
Exposure 2012 : +0.20
Contrast 2012 : +12
Highlights 2012 : -50
Shadows 2012 : +45
Whites 2012 : +2
Blacks 2012 : -33
Clarity 2012 : 0
Defringe Purple Amount : 0
Defringe Purple Hue Lo : 30
Defringe Purple Hue Hi : 70
Defringe Green Amount : 0
Defringe Green Hue Lo : 40
Defringe Green Hue Hi : 60
Dehaze : 0
Tone Map Strength : 0
Convert To Grayscale : False
Override Look Vignette : False
Tone Curve Name : Linear
Tone Curve Name 2012 : Linear
Camera Profile : Embedded
Lens Profile Setup : LensDefaults
Has Settings : True
Has Crop : False
Already Applied : True
Creator : Richard Berter
Rights : © Richard Berter
Usage Terms : © Richard Berter
Creator City : Cincinnati
Creator Country : U.S.A
Creator Address : 628 e Ross Ave.
Creator Postal Code : 45217
Creator Region : Ohio
Creator Work Email : [email protected]
Creator Work Telephone : 513-309-3522
Tone Curve : 0, 0, 255, 255
Tone Curve Red : 0, 0, 255, 255
Tone Curve Green : 0, 0, 255, 255
Tone Curve Blue : 0, 0, 255, 255
Tone Curve PV2012 : 0, 0, 255, 255
Tone Curve PV2012 Red : 0, 0, 255, 255
Tone Curve PV2012 Green : 0, 0, 255, 255
Tone Curve PV2012 Blue : 0, 0, 255, 255
Look Name : Image Width : 350
Image Height : 233
Bits Per Sample : 8
Color Components : 3
Aperture : 8.0
Image Size : 350x233
Megapixels : 0.082
Scale Factor To 35 mm Equivalent : 1.5
Shutter Speed : 1/140
Circle Of Confusion : 0.020 mm
Field Of View : 67.4 deg
Focal Length : 18.0 mm (35 mm equivalent: 27.0 mm)
Hyperfocal Distance : 2.02 m
Light Value : 11.1
Lens ID : XF18mm F2 R